Package: hiAnnotator Version: 1.43.1 Command: /Library/Frameworks/R.framework/Resources/bin/R CMD build --keep-empty-dirs --no-resave-data hiAnnotator StartedAt: 2025-10-10 16:41:01 -0400 (Fri, 10 Oct 2025) EndedAt: 2025-10-10 16:41:23 -0400 (Fri, 10 Oct 2025) EllapsedTime: 22.3 seconds RetCode: 1 Status: ERROR PackageFile: None PackageFileSize: NA