Package: hiAnnotator Version: 1.43.0 Command: rm -rf hiAnnotator.buildbin-libdir && mkdir hiAnnotator.buildbin-libdir && /Users/biocbuild/BBS/utils/build-universal.sh hiAnnotator_1.43.0.tar.gz /Library/Frameworks/R.framework/Resources/bin/R hiAnnotator.buildbin-libdir StartedAt: 2025-06-20 22:20:59 -0400 (Fri, 20 Jun 2025) EndedAt: 2025-06-20 22:21:14 -0400 (Fri, 20 Jun 2025) EllapsedTime: 15.3 seconds RetCode: 0 Status: OK PackageFile: hiAnnotator_1.43.0.tgz PackageFileSize: 820.5 KiB