Package: hermes Version: 1.13.1 Command: /home/biocbuild/bbs-3.22-bioc/R/bin/R CMD INSTALL hermes StartedAt: 2025-09-29 15:29:13 -0400 (Mon, 29 Sep 2025) EndedAt: 2025-09-29 15:30:19 -0400 (Mon, 29 Sep 2025) EllapsedTime: 66.7 seconds RetCode: 0 Status: OK