Package: hermes Version: 1.15.0 Command: /Library/Frameworks/R.framework/Resources/bin/R CMD INSTALL hermes StartedAt: 2025-11-21 15:13:29 -0500 (Fri, 21 Nov 2025) EndedAt: 2025-11-21 15:13:48 -0500 (Fri, 21 Nov 2025) EllapsedTime: 19.3 seconds RetCode: 0 Status: OK