Package: hdxmsqc Version: 1.5.0 Command: /home/biocbuild/bbs-3.22-bioc/R/bin/R CMD build --keep-empty-dirs --no-resave-data --md5 hdxmsqc StartedAt: 2025-10-03 18:01:40 -0400 (Fri, 03 Oct 2025) EndedAt: 2025-10-03 18:05:33 -0400 (Fri, 03 Oct 2025) EllapsedTime: 233.2 seconds RetCode: 0 Status: OK PackageFile: hdxmsqc_1.5.0.tar.gz PackageFileSize: 5.485 MiB