Package: hdxmsqc Version: 1.7.0 Command: /Library/Frameworks/R.framework/Resources/bin/R CMD INSTALL hdxmsqc StartedAt: 2025-11-21 15:19:27 -0500 (Fri, 21 Nov 2025) EndedAt: 2025-11-21 15:19:39 -0500 (Fri, 21 Nov 2025) EllapsedTime: 12.1 seconds RetCode: 0 Status: OK