Package: hdxmsqc Version: 1.7.0 Command: /Library/Frameworks/R.framework/Resources/bin/R CMD build --keep-empty-dirs --no-resave-data hdxmsqc StartedAt: 2025-11-21 16:36:11 -0500 (Fri, 21 Nov 2025) EndedAt: 2025-11-21 16:37:33 -0500 (Fri, 21 Nov 2025) EllapsedTime: 81.9 seconds RetCode: 0 Status: OK PackageFile: hdxmsqc_1.7.0.tar.gz PackageFileSize: 4.598 MiB