Package: hca Version: 1.19.0 Command: /Library/Frameworks/R.framework/Resources/bin/R CMD INSTALL hca StartedAt: 2025-11-21 15:05:26 -0500 (Fri, 21 Nov 2025) EndedAt: 2025-11-21 15:05:31 -0500 (Fri, 21 Nov 2025) EllapsedTime: 4.8 seconds RetCode: 0 Status: OK