Package: hca Version: 1.19.0 Command: /Library/Frameworks/R.framework/Resources/bin/R CMD build --keep-empty-dirs --no-resave-data hca StartedAt: 2025-11-20 16:36:17 -0500 (Thu, 20 Nov 2025) EndedAt: 2025-11-20 16:36:37 -0500 (Thu, 20 Nov 2025) EllapsedTime: 20.2 seconds RetCode: 1 Status: ERROR PackageFile: None PackageFileSize: NA