Package: hapFabia Version: 1.53.0 Command: /home/biocbuild/bbs-3.23-bioc/R/bin/R CMD INSTALL hapFabia StartedAt: 2025-11-05 15:20:12 -0500 (Wed, 05 Nov 2025) EndedAt: 2025-11-05 15:20:23 -0500 (Wed, 05 Nov 2025) EllapsedTime: 10.9 seconds RetCode: 0 Status: OK