Package: hapFabia Version: 1.51.0 Command: /Library/Frameworks/R.framework/Resources/bin/R CMD INSTALL hapFabia StartedAt: 2025-10-14 15:15:41 -0400 (Tue, 14 Oct 2025) EndedAt: 2025-10-14 15:16:10 -0400 (Tue, 14 Oct 2025) EllapsedTime: 29.4 seconds RetCode: 0 Status: OK