Package: hapFabia Version: 1.51.0 Command: /Library/Frameworks/R.framework/Resources/bin/R CMD build --keep-empty-dirs --no-resave-data hapFabia StartedAt: 2025-10-13 17:30:56 -0400 (Mon, 13 Oct 2025) EndedAt: 2025-10-13 17:31:30 -0400 (Mon, 13 Oct 2025) EllapsedTime: 34.3 seconds RetCode: 0 Status: OK PackageFile: hapFabia_1.51.0.tar.gz PackageFileSize: 1.62 MiB