Package: hapFabia Version: 1.51.0 Command: /Library/Frameworks/R.framework/Resources/bin/R CMD INSTALL hapFabia StartedAt: 2025-09-30 15:08:06 -0400 (Tue, 30 Sep 2025) EndedAt: 2025-09-30 15:08:11 -0400 (Tue, 30 Sep 2025) EllapsedTime: 4.6 seconds RetCode: 0 Status: OK