Package: hapFabia Version: 1.51.0 Command: /Library/Frameworks/R.framework/Resources/bin/R CMD build --keep-empty-dirs --no-resave-data hapFabia StartedAt: 2025-09-30 16:39:52 -0400 (Tue, 30 Sep 2025) EndedAt: 2025-09-30 16:40:04 -0400 (Tue, 30 Sep 2025) EllapsedTime: 12.1 seconds RetCode: 0 Status: OK PackageFile: hapFabia_1.51.0.tar.gz PackageFileSize: 1.623 MiB