Package: h5vc Version: 2.43.0 Command: /home/biocbuild/R/R/bin/R CMD INSTALL h5vc StartedAt: 2025-10-23 20:35:37 -0000 (Thu, 23 Oct 2025) EndedAt: 2025-10-23 20:36:04 -0000 (Thu, 23 Oct 2025) EllapsedTime: 27.1 seconds RetCode: 0 Status: OK