Package: h5vc Version: 2.43.0 Command: /home/biocbuild/R/R/bin/R CMD build --keep-empty-dirs --no-resave-data h5vc StartedAt: 2025-10-21 00:24:21 -0000 (Tue, 21 Oct 2025) EndedAt: 2025-10-21 00:29:16 -0000 (Tue, 21 Oct 2025) EllapsedTime: 295.3 seconds RetCode: 0 Status: OK PackageFile: h5vc_2.43.0.tar.gz PackageFileSize: 1.16 MiB