Package: h5vc Version: 2.45.0 Command: /home/biocbuild/bbs-3.23-bioc/R/bin/R CMD INSTALL h5vc StartedAt: 2025-11-04 15:14:54 -0500 (Tue, 04 Nov 2025) EndedAt: 2025-11-04 15:15:13 -0500 (Tue, 04 Nov 2025) EllapsedTime: 19.2 seconds RetCode: 0 Status: OK