Package: h5vc Version: 2.45.0 Command: /home/biocbuild/bbs-3.23-bioc/R/bin/R CMD check --install=check:h5vc.install-out.txt --library=/home/biocbuild/bbs-3.23-bioc/R/site-library --timings h5vc_2.45.0.tar.gz StartedAt: 2025-11-25 00:18:14 -0500 (Tue, 25 Nov 2025) EndedAt: 2025-11-25 00:25:08 -0500 (Tue, 25 Nov 2025) EllapsedTime: 414.6 seconds RetCode: 0 Status: OK CheckDir: h5vc.Rcheck Warnings: 0