Package: h5vc Version: 2.45.0 Command: /home/biocbuild/bbs-3.23-bioc/R/bin/R CMD build --keep-empty-dirs --no-resave-data h5vc StartedAt: 2025-11-04 17:56:39 -0500 (Tue, 04 Nov 2025) EndedAt: 2025-11-04 18:00:32 -0500 (Tue, 04 Nov 2025) EllapsedTime: 233.2 seconds RetCode: 0 Status: OK PackageFile: h5vc_2.45.0.tar.gz PackageFileSize: 1.621 MiB