Package: h5mread Version: 1.1.1 Command: /home/biocbuild/bbs-3.22-bioc/R/bin/R CMD INSTALL h5mread StartedAt: 2025-10-17 15:33:35 -0400 (Fri, 17 Oct 2025) EndedAt: 2025-10-17 15:33:55 -0400 (Fri, 17 Oct 2025) EllapsedTime: 19.7 seconds RetCode: 0 Status: OK