Package: h5mread Version: 1.1.1 Command: /home/biocbuild/bbs-3.22-bioc/R/bin/R CMD build --keep-empty-dirs --no-resave-data --md5 h5mread StartedAt: 2025-10-17 17:59:45 -0400 (Fri, 17 Oct 2025) EndedAt: 2025-10-17 18:02:30 -0400 (Fri, 17 Oct 2025) EllapsedTime: 165.2 seconds RetCode: 0 Status: OK PackageFile: h5mread_1.1.1.tar.gz PackageFileSize: 2.368 MiB