Package: gypsum Version: 1.7.0 Command: /home/biocbuild/bbs-3.23-bioc/R/bin/R CMD build --keep-empty-dirs --no-resave-data gypsum StartedAt: 2025-11-07 17:58:14 -0500 (Fri, 07 Nov 2025) EndedAt: 2025-11-07 17:58:22 -0500 (Fri, 07 Nov 2025) EllapsedTime: 8.0 seconds RetCode: 0 Status: OK PackageFile: gypsum_1.7.0.tar.gz PackageFileSize: 274.6 KiB