Package: gypsum Version: 1.5.0 Command: /Library/Frameworks/R.framework/Resources/bin/R CMD INSTALL gypsum StartedAt: 2025-10-13 15:05:47 -0400 (Mon, 13 Oct 2025) EndedAt: 2025-10-13 15:05:54 -0400 (Mon, 13 Oct 2025) EllapsedTime: 6.1 seconds RetCode: 0 Status: OK