Package: gypsum Version: 1.5.0 Command: rm -rf gypsum.buildbin-libdir && mkdir gypsum.buildbin-libdir && /Users/biocbuild/BBS/utils/build-universal.sh gypsum_1.5.0.tar.gz /Library/Frameworks/R.framework/Resources/bin/R gypsum.buildbin-libdir StartedAt: 2025-10-13 22:45:06 -0400 (Mon, 13 Oct 2025) EndedAt: 2025-10-13 22:45:08 -0400 (Mon, 13 Oct 2025) EllapsedTime: 2.0 seconds RetCode: 0 Status: OK PackageFile: gypsum_1.5.0.tgz PackageFileSize: 423.2 KiB