Package: gwasurvivr Version: 1.29.0 Command: /home/biocbuild/bbs-3.23-bioc/R/bin/R CMD INSTALL gwasurvivr StartedAt: 2025-11-14 15:44:46 -0500 (Fri, 14 Nov 2025) EndedAt: 2025-11-14 15:45:29 -0500 (Fri, 14 Nov 2025) EllapsedTime: 43.4 seconds RetCode: 0 Status: OK