Package: gwasurvivr Version: 1.29.0 Command: /home/biocbuild/bbs-3.23-bioc/R/bin/R CMD build --keep-empty-dirs --no-resave-data gwasurvivr StartedAt: 2025-11-14 18:00:37 -0500 (Fri, 14 Nov 2025) EndedAt: 2025-11-14 18:02:58 -0500 (Fri, 14 Nov 2025) EllapsedTime: 140.1 seconds RetCode: 0 Status: OK PackageFile: gwasurvivr_1.29.0.tar.gz PackageFileSize: 343.1 KiB