Package: gwascat Version: 2.43.0 Command: /Library/Frameworks/R.framework/Resources/bin/R CMD INSTALL gwascat StartedAt: 2025-11-19 15:22:22 -0500 (Wed, 19 Nov 2025) EndedAt: 2025-11-19 15:22:45 -0500 (Wed, 19 Nov 2025) EllapsedTime: 22.5 seconds RetCode: 0 Status: OK