Package: gwascat Version: 2.43.0 Command: /Library/Frameworks/R.framework/Resources/bin/R CMD build --keep-empty-dirs --no-resave-data gwascat StartedAt: 2025-11-19 16:36:39 -0500 (Wed, 19 Nov 2025) EndedAt: 2025-11-19 16:37:16 -0500 (Wed, 19 Nov 2025) EllapsedTime: 37.4 seconds RetCode: 1 Status: ERROR PackageFile: None PackageFileSize: NA