Package: gwascat Version: 2.43.0 Command: rm -rf gwascat.buildbin-libdir && mkdir gwascat.buildbin-libdir && /Users/biocbuild/BBS/utils/build-universal.sh gwascat_2.43.0.tar.gz /Library/Frameworks/R.framework/Resources/bin/R gwascat.buildbin-libdir StartedAt: 2025-11-16 23:37:01 -0500 (Sun, 16 Nov 2025) EndedAt: 2025-11-16 23:37:26 -0500 (Sun, 16 Nov 2025) EllapsedTime: 24.6 seconds RetCode: 0 Status: OK PackageFile: gwascat_2.43.0.tgz PackageFileSize: 34.24 MiB