Package: gtrellis Version: 1.43.0 Command: /home/biocbuild/bbs-3.23-bioc/R/bin/R CMD INSTALL gtrellis StartedAt: 2025-11-06 15:15:03 -0500 (Thu, 06 Nov 2025) EndedAt: 2025-11-06 15:15:12 -0500 (Thu, 06 Nov 2025) EllapsedTime: 9.3 seconds RetCode: 0 Status: OK