Package: gtrellis Version: 1.43.0 Command: /home/biocbuild/bbs-3.23-bioc/R/bin/R CMD build --keep-empty-dirs --no-resave-data gtrellis StartedAt: 2025-11-06 17:55:14 -0500 (Thu, 06 Nov 2025) EndedAt: 2025-11-06 17:57:38 -0500 (Thu, 06 Nov 2025) EllapsedTime: 144.1 seconds RetCode: 0 Status: OK PackageFile: gtrellis_1.43.0.tar.gz PackageFileSize: 2.728 MiB