Package: gtrellis Version: 1.41.0 Command: /Library/Frameworks/R.framework/Resources/bin/R CMD INSTALL gtrellis StartedAt: 2025-10-14 15:18:08 -0400 (Tue, 14 Oct 2025) EndedAt: 2025-10-14 15:18:24 -0400 (Tue, 14 Oct 2025) EllapsedTime: 16.5 seconds RetCode: 0 Status: OK