Package: gtrellis Version: 1.41.0 Command: /Library/Frameworks/R.framework/Resources/bin/R CMD build --keep-empty-dirs --no-resave-data gtrellis StartedAt: 2025-10-14 17:26:25 -0400 (Tue, 14 Oct 2025) EndedAt: 2025-10-14 17:29:41 -0400 (Tue, 14 Oct 2025) EllapsedTime: 195.9 seconds RetCode: 0 Status: OK PackageFile: gtrellis_1.41.0.tar.gz PackageFileSize: 4.044 MiB