Package: gtrellis Version: 1.41.0 Command: rm -rf gtrellis.buildbin-libdir && mkdir gtrellis.buildbin-libdir && /Users/biocbuild/BBS/utils/build-universal.sh gtrellis_1.41.0.tar.gz /Library/Frameworks/R.framework/Resources/bin/R gtrellis.buildbin-libdir StartedAt: 2025-10-15 02:48:07 -0400 (Wed, 15 Oct 2025) EndedAt: 2025-10-15 02:48:26 -0400 (Wed, 15 Oct 2025) EllapsedTime: 18.6 seconds RetCode: 0 Status: OK PackageFile: gtrellis_1.41.0.tgz PackageFileSize: 4.113 MiB