Package: gsean Version: 1.29.0 Command: /home/biocbuild/R/R/bin/R CMD INSTALL gsean StartedAt: 2025-10-06 20:47:06 -0000 (Mon, 06 Oct 2025) EndedAt: 2025-10-06 20:47:37 -0000 (Mon, 06 Oct 2025) EllapsedTime: 30.5 seconds RetCode: 0 Status: OK