Package: gsean Version: 1.29.0 Command: /home/biocbuild/R/R/bin/R CMD build --keep-empty-dirs --no-resave-data gsean StartedAt: 2025-10-07 00:13:08 -0000 (Tue, 07 Oct 2025) EndedAt: 2025-10-07 00:14:23 -0000 (Tue, 07 Oct 2025) EllapsedTime: 75.0 seconds RetCode: 0 Status: OK PackageFile: gsean_1.29.0.tar.gz PackageFileSize: 2.118 MiB