Package: gsean Version: 1.29.0 Command: chmod a+r gsean -R && F:\biocbuild\bbs-3.22-bioc\R\bin\R.exe CMD build --keep-empty-dirs --no-resave-data gsean StartedAt: 2025-08-14 20:40:39 -0400 (Thu, 14 Aug 2025) EndedAt: 2025-08-14 20:42:04 -0400 (Thu, 14 Aug 2025) EllapsedTime: 85.7 seconds RetCode: 0 Status: OK PackageFile: gsean_1.29.0.tar.gz PackageFileSize: 1.535 MiB