Package: gscreend Version: 1.23.0 Command: /home/biocbuild/R/R/bin/R CMD INSTALL gscreend StartedAt: 2025-10-13 20:53:11 -0000 (Mon, 13 Oct 2025) EndedAt: 2025-10-13 20:53:39 -0000 (Mon, 13 Oct 2025) EllapsedTime: 28.4 seconds RetCode: 0 Status: OK