Package: gscreend Version: 1.23.0 Command: /home/biocbuild/R/R/bin/R CMD build --keep-empty-dirs --no-resave-data gscreend StartedAt: 2025-10-17 01:46:07 -0000 (Fri, 17 Oct 2025) EndedAt: 2025-10-17 01:48:52 -0000 (Fri, 17 Oct 2025) EllapsedTime: 165.2 seconds RetCode: 0 Status: OK PackageFile: gscreend_1.23.0.tar.gz PackageFileSize: 3.131 MiB