Package: gscreend Version: 1.25.0 Command: /home/biocbuild/bbs-3.23-bioc/R/bin/R CMD build --keep-empty-dirs --no-resave-data gscreend StartedAt: 2025-11-05 18:01:26 -0500 (Wed, 05 Nov 2025) EndedAt: 2025-11-05 18:03:03 -0500 (Wed, 05 Nov 2025) EllapsedTime: 97.1 seconds RetCode: 0 Status: OK PackageFile: gscreend_1.25.0.tar.gz PackageFileSize: 3.183 MiB