Package: gscreend Version: 1.23.0 Command: /Library/Frameworks/R.framework/Resources/bin/R CMD INSTALL gscreend StartedAt: 2025-10-15 15:12:32 -0400 (Wed, 15 Oct 2025) EndedAt: 2025-10-15 15:12:41 -0400 (Wed, 15 Oct 2025) EllapsedTime: 9.1 seconds RetCode: 0 Status: OK