Package: gscreend Version: 1.23.0 Command: /Library/Frameworks/R.framework/Resources/bin/R CMD build --keep-empty-dirs --no-resave-data gscreend StartedAt: 2025-10-14 16:36:15 -0400 (Tue, 14 Oct 2025) EndedAt: 2025-10-14 16:37:07 -0400 (Tue, 14 Oct 2025) EllapsedTime: 52.5 seconds RetCode: 0 Status: OK PackageFile: gscreend_1.23.0.tar.gz PackageFileSize: 3.114 MiB