Package: groHMM Version: 1.45.0 Command: /home/biocbuild/bbs-3.23-bioc/R/bin/R CMD INSTALL groHMM StartedAt: 2025-11-04 15:25:48 -0500 (Tue, 04 Nov 2025) EndedAt: 2025-11-04 15:26:20 -0500 (Tue, 04 Nov 2025) EllapsedTime: 31.5 seconds RetCode: 0 Status: OK