Package: groHMM Version: 1.45.0 Command: /home/biocbuild/bbs-3.23-bioc/R/bin/R CMD build --keep-empty-dirs --no-resave-data groHMM StartedAt: 2025-11-04 17:53:56 -0500 (Tue, 04 Nov 2025) EndedAt: 2025-11-04 17:56:41 -0500 (Tue, 04 Nov 2025) EllapsedTime: 165.2 seconds RetCode: 0 Status: OK PackageFile: groHMM_1.45.0.tar.gz PackageFileSize: 4.162 MiB