Package: groHMM Version: 1.43.1 Command: /Library/Frameworks/R.framework/Resources/bin/R CMD INSTALL groHMM StartedAt: 2025-10-12 15:27:35 -0400 (Sun, 12 Oct 2025) EndedAt: 2025-10-12 15:28:21 -0400 (Sun, 12 Oct 2025) EllapsedTime: 45.5 seconds RetCode: 0 Status: OK