Package: groHMM Version: 1.43.1 Command: /Library/Frameworks/R.framework/Resources/bin/R CMD build --keep-empty-dirs --no-resave-data groHMM StartedAt: 2025-10-12 17:21:50 -0400 (Sun, 12 Oct 2025) EndedAt: 2025-10-12 17:25:36 -0400 (Sun, 12 Oct 2025) EllapsedTime: 226.2 seconds RetCode: 0 Status: OK PackageFile: groHMM_1.43.1.tar.gz PackageFileSize: 4.154 MiB