Package: graphite Version: 1.55.0 Command: /home/biocbuild/R/R/bin/R CMD INSTALL graphite StartedAt: 2025-10-16 21:39:50 -0000 (Thu, 16 Oct 2025) EndedAt: 2025-10-16 21:40:08 -0000 (Thu, 16 Oct 2025) EllapsedTime: 18.1 seconds RetCode: 0 Status: OK