Package: graphite Version: 1.55.0 Command: /home/biocbuild/R/R/bin/R CMD build --keep-empty-dirs --no-resave-data graphite StartedAt: 2025-10-17 01:44:18 -0000 (Fri, 17 Oct 2025) EndedAt: 2025-10-17 01:45:29 -0000 (Fri, 17 Oct 2025) EllapsedTime: 71.0 seconds RetCode: 0 Status: OK PackageFile: graphite_1.55.0.tar.gz PackageFileSize: 758.9 KiB