Package: graphite Version: 1.55.0 Command: /home/biocbuild/bbs-3.22-bioc/R/bin/R CMD INSTALL graphite StartedAt: 2025-10-13 15:28:09 -0400 (Mon, 13 Oct 2025) EndedAt: 2025-10-13 15:28:23 -0400 (Mon, 13 Oct 2025) EllapsedTime: 13.1 seconds RetCode: 0 Status: OK