Package: graphite Version: 1.55.0 Command: /home/biocbuild/bbs-3.22-bioc/R/bin/R CMD check --install=check:graphite.install-out.txt --library=/home/biocbuild/bbs-3.22-bioc/R/site-library --timings graphite_1.55.0.tar.gz StartedAt: 2025-10-14 00:44:39 -0400 (Tue, 14 Oct 2025) EndedAt: 2025-10-14 00:49:14 -0400 (Tue, 14 Oct 2025) EllapsedTime: 275.2 seconds RetCode: 0 Status: OK CheckDir: graphite.Rcheck Warnings: 0